BEGIN:VCALENDAR
VERSION:2.0
PRODID:-//Webster Memorial United Church - ECPv6.13.2.1//NONSGML v1.0//EN
CALSCALE:GREGORIAN
METHOD:PUBLISH
X-ORIGINAL-URL:https://webstermemorial.org
X-WR-CALDESC:Events for Webster Memorial United Church
REFRESH-INTERVAL;VALUE=DURATION:PT1H
X-Robots-Tag:noindex
X-PUBLISHED-TTL:PT1H
BEGIN:VTIMEZONE
TZID:America/Jamaica
BEGIN:STANDARD
TZOFFSETFROM:-0500
TZOFFSETTO:-0500
TZNAME:EST
DTSTART:20250101T000000
END:STANDARD
END:VTIMEZONE
BEGIN:VEVENT
DTSTART;TZID=America/Jamaica:20251203T120000
DTEND;TZID=America/Jamaica:20251203T130000
DTSTAMP:20260421T061319
CREATED:20251202T190507Z
LAST-MODIFIED:20251202T190507Z
UID:6719-1764763200-1764766800@webstermemorial.org
SUMMARY:Mid-Day Reflections
DESCRIPTION:Join us for our Mid-Day Reflections this and every Wednesday in the Church Hall at 12 noon.
URL:https://webstermemorial.org/event/mid-day-reflections-30/
LOCATION:Webster Memorial United Chuch\, Jamaica
CATEGORIES:Holy,Worship Services
ATTACH;FMTTYPE=image/jpeg:https://webstermemorial.org/wp-content/uploads/Midday-Reflection-Jan-Mar-2025-IG-SM-Posts.jpg
END:VEVENT
BEGIN:VEVENT
DTSTART;TZID=America/Jamaica:20251130T100000
DTEND;TZID=America/Jamaica:20251130T120000
DTSTAMP:20260421T061319
CREATED:20251128T215110Z
LAST-MODIFIED:20251128T223041Z
UID:6707-1764496800-1764504000@webstermemorial.org
SUMMARY:Sunday Service Worship -  10 AM
DESCRIPTION:
URL:https://webstermemorial.org/event/sunday-service-worship-10-am/
LOCATION:Webster Memorial United Chuch\, Jamaica
CATEGORIES:Online,Worship Services
ATTACH;FMTTYPE=image/jpeg:https://webstermemorial.org/wp-content/uploads/November-2025-Sunday-Service-images-3.jpg
END:VEVENT
BEGIN:VEVENT
DTSTART;TZID=America/Jamaica:20251130T073000
DTEND;TZID=America/Jamaica:20251130T093000
DTSTAMP:20260421T061319
CREATED:20251128T214633Z
LAST-MODIFIED:20251128T214633Z
UID:6584-1764487800-1764495000@webstermemorial.org
SUMMARY:Sunday Service Worship - 7:30 AM
DESCRIPTION:
URL:https://webstermemorial.org/event/sunday-service-worship-730-am/
LOCATION:Webster Memorial United Chuch\, Jamaica
CATEGORIES:Worship Services
ATTACH;FMTTYPE=image/jpeg:https://webstermemorial.org/wp-content/uploads/November-2025-Sunday-Service-images.jpg
END:VEVENT
BEGIN:VEVENT
DTSTART;TZID=America/Jamaica:20251126T120000
DTEND;TZID=America/Jamaica:20251126T130000
DTSTAMP:20260421T061319
CREATED:20251121T184309Z
LAST-MODIFIED:20251121T184309Z
UID:6688-1764158400-1764162000@webstermemorial.org
SUMMARY:Mid-Day Reflections
DESCRIPTION:Join us for our Mid-Day Reflections this and every Wednesday in the Church Hall at 12 noon.
URL:https://webstermemorial.org/event/mid-day-reflections-29/
LOCATION:Webster Memorial United Chuch\, Jamaica
CATEGORIES:Holy,Worship Services
ATTACH;FMTTYPE=image/jpeg:https://webstermemorial.org/wp-content/uploads/Midday-Reflection-Jan-Mar-2025-IG-SM-Posts.jpg
END:VEVENT
BEGIN:VEVENT
DTSTART;TZID=America/Jamaica:20251123T153000
DTEND;TZID=America/Jamaica:20251123T163000
DTSTAMP:20260421T061319
CREATED:20251110T185151Z
LAST-MODIFIED:20251110T185151Z
UID:6657-1763911800-1763915400@webstermemorial.org
SUMMARY:Sunday Praise
DESCRIPTION:A Re-Broadcast of Sunday Services \nLove 101 FM 3:30 – 4:30 pm \nListen Live
URL:https://webstermemorial.org/event/sunday-praise-13/
LOCATION:Online
CATEGORIES:Radio,Worship Services
ATTACH;FMTTYPE=image/jpeg:https://webstermemorial.org/wp-content/uploads/Sunday-Praise.jpeg
END:VEVENT
BEGIN:VEVENT
DTSTART;TZID=America/Jamaica:20251119T120000
DTEND;TZID=America/Jamaica:20251119T130000
DTSTAMP:20260421T061319
CREATED:20251114T170556Z
LAST-MODIFIED:20251114T170556Z
UID:6676-1763553600-1763557200@webstermemorial.org
SUMMARY:Mid-Day Reflections
DESCRIPTION:Join us for our Mid-Day Reflections this and every Wednesday in the Church Hall at 12 noon.
URL:https://webstermemorial.org/event/mid-day-reflections-28/
LOCATION:Webster Memorial United Chuch\, Jamaica
CATEGORIES:Holy,Worship Services
ATTACH;FMTTYPE=image/jpeg:https://webstermemorial.org/wp-content/uploads/Midday-Reflection-Jan-Mar-2025-IG-SM-Posts.jpg
END:VEVENT
BEGIN:VEVENT
DTSTART;TZID=America/Jamaica:20251112T120000
DTEND;TZID=America/Jamaica:20251112T130000
DTSTAMP:20260421T061319
CREATED:20251110T184629Z
LAST-MODIFIED:20251110T184629Z
UID:6655-1762948800-1762952400@webstermemorial.org
SUMMARY:Mid-Day Reflections
DESCRIPTION:Join us for our Mid-Day Reflections this and every Wednesday in the Church Hall at 12 noon.
URL:https://webstermemorial.org/event/mid-day-reflections-27/
LOCATION:Webster Memorial United Chuch\, Jamaica
CATEGORIES:Holy,Worship Services
ATTACH;FMTTYPE=image/jpeg:https://webstermemorial.org/wp-content/uploads/Midday-Reflection-Jan-Mar-2025-IG-SM-Posts.jpg
END:VEVENT
BEGIN:VEVENT
DTSTART;TZID=America/Jamaica:20251109T153000
DTEND;TZID=America/Jamaica:20251109T163000
DTSTAMP:20260421T061319
CREATED:20251103T223124Z
LAST-MODIFIED:20251103T223124Z
UID:6632-1762702200-1762705800@webstermemorial.org
SUMMARY:Sunday Praise
DESCRIPTION:A Re-Broadcast of Sunday Services \nLove 101 FM 3:30 – 4:30 pm \nListen Live
URL:https://webstermemorial.org/event/sunday-praise-12/
CATEGORIES:Radio,Worship Services
ATTACH;FMTTYPE=image/jpeg:https://webstermemorial.org/wp-content/uploads/Sunday-Praise.jpeg
END:VEVENT
BEGIN:VEVENT
DTSTART;TZID=America/Jamaica:20251105T120000
DTEND;TZID=America/Jamaica:20251105T130000
DTSTAMP:20260421T061319
CREATED:20251103T222651Z
LAST-MODIFIED:20251103T222651Z
UID:6628-1762344000-1762347600@webstermemorial.org
SUMMARY:Mid-Day Reflections
DESCRIPTION:Join us for our Mid-Day Reflections this and every Wednesday in the Church Hall at 12 noon.
URL:https://webstermemorial.org/event/mid-day-reflections-26/
LOCATION:Webster Memorial United Chuch\, Jamaica
CATEGORIES:Holy,Worship Services
ATTACH;FMTTYPE=image/jpeg:https://webstermemorial.org/wp-content/uploads/Midday-Reflection-Jan-Mar-2025-IG-SM-Posts.jpg
END:VEVENT
BEGIN:VEVENT
DTSTART;TZID=America/Jamaica:20251026T153000
DTEND;TZID=America/Jamaica:20251026T163000
DTSTAMP:20260421T061319
CREATED:20251013T203844Z
LAST-MODIFIED:20251013T203844Z
UID:6558-1761492600-1761496200@webstermemorial.org
SUMMARY:Sunday Praise
DESCRIPTION:A Re-Broadcast of Sunday Services \nLove 101 FM 3:30 – 4:30 pm \nListen Live
URL:https://webstermemorial.org/event/sunday-praise-11/
CATEGORIES:Radio,Worship Services
ATTACH;FMTTYPE=image/jpeg:https://webstermemorial.org/wp-content/uploads/Sunday-Praise.jpeg
END:VEVENT
BEGIN:VEVENT
DTSTART;TZID=America/Jamaica:20251022T120000
DTEND;TZID=America/Jamaica:20251022T130000
DTSTAMP:20260421T061319
CREATED:20251021T153403Z
LAST-MODIFIED:20251021T153403Z
UID:6574-1761134400-1761138000@webstermemorial.org
SUMMARY:Mid-Day Reflections
DESCRIPTION:Join us for our Mid-Day Reflections this and every Wednesday in the Church Hall at 12 noon.
URL:https://webstermemorial.org/event/mid-day-reflections-25/
LOCATION:Webster Memorial United Chuch\, Jamaica
CATEGORIES:Holy,Worship Services
ATTACH;FMTTYPE=image/jpeg:https://webstermemorial.org/wp-content/uploads/Midday-Reflection-Jan-Mar-2025-IG-SM-Posts.jpg
END:VEVENT
BEGIN:VEVENT
DTSTART;TZID=America/Jamaica:20251019T073000
DTEND;TZID=America/Jamaica:20251019T120000
DTSTAMP:20260421T061319
CREATED:20250808T204624Z
LAST-MODIFIED:20250808T204624Z
UID:6138-1760859000-1760875200@webstermemorial.org
SUMMARY:115th Jamaica Co. Boy's Brigade 50th Anniversary Service
DESCRIPTION:
URL:https://webstermemorial.org/event/115th-jamaica-co-boys-brigade-50th-anniversary-service/
LOCATION:Webster Memorial United Chuch\, Jamaica
CATEGORIES:Worship Services
ATTACH;FMTTYPE=image/png:https://webstermemorial.org/wp-content/uploads/BB-50th-Anniversary-Service-2025.png
END:VEVENT
BEGIN:VEVENT
DTSTART;TZID=America/Jamaica:20251015T120000
DTEND;TZID=America/Jamaica:20251015T130000
DTSTAMP:20260421T061319
CREATED:20251013T215049Z
LAST-MODIFIED:20251013T215049Z
UID:6560-1760529600-1760533200@webstermemorial.org
SUMMARY:Mid-Day Reflections
DESCRIPTION:Join us for our Mid-Day Reflections this and every Wednesday in the Church Hall at 12 noon.
URL:https://webstermemorial.org/event/mid-day-reflections-24/
LOCATION:Webster Memorial United Chuch\, Jamaica
CATEGORIES:Holy,Worship Services
ATTACH;FMTTYPE=image/jpeg:https://webstermemorial.org/wp-content/uploads/Midday-Reflection-Jan-Mar-2025-IG-SM-Posts.jpg
END:VEVENT
BEGIN:VEVENT
DTSTART;TZID=America/Jamaica:20251015T100000
DTEND;TZID=America/Jamaica:20251015T120000
DTSTAMP:20260421T061319
CREATED:20251003T002206Z
LAST-MODIFIED:20251003T002206Z
UID:6508-1760522400-1760529600@webstermemorial.org
SUMMARY:Finalizing Service for Mr. Stephen Usher
DESCRIPTION:
URL:https://webstermemorial.org/event/finalizing-service-for-mr-stephen-usher/
CATEGORIES:Worship Services
ATTACH;FMTTYPE=image/jpeg:https://webstermemorial.org/wp-content/uploads/Stephen-Ushers-Finalizing-Service.jpg
END:VEVENT
BEGIN:VEVENT
DTSTART;TZID=America/Jamaica:20251012T153000
DTEND;TZID=America/Jamaica:20251012T163000
DTSTAMP:20260421T061319
CREATED:20251001T230403Z
LAST-MODIFIED:20251001T230403Z
UID:6492-1760283000-1760286600@webstermemorial.org
SUMMARY:Sunday Praise
DESCRIPTION:A Re-Broadcast of Sunday Services \nLove 101 FM 3:30 – 4:30 pm \nListen Live
URL:https://webstermemorial.org/event/sunday-praise-10/
CATEGORIES:Radio,Worship Services
ATTACH;FMTTYPE=image/jpeg:https://webstermemorial.org/wp-content/uploads/Sunday-Praise.jpeg
END:VEVENT
BEGIN:VEVENT
DTSTART;TZID=America/Jamaica:20251008T120000
DTEND;TZID=America/Jamaica:20251008T130000
DTSTAMP:20260421T061319
CREATED:20251007T201542Z
LAST-MODIFIED:20251007T201542Z
UID:6517-1759924800-1759928400@webstermemorial.org
SUMMARY:Mid-Day Reflections
DESCRIPTION:Join us for our Mid-Day Reflections this and every Wednesday in the Church Hall at 12 noon.
URL:https://webstermemorial.org/event/mid-day-reflections-23/
LOCATION:Webster Memorial United Chuch\, Jamaica
CATEGORIES:Holy,Worship Services
ATTACH;FMTTYPE=image/jpeg:https://webstermemorial.org/wp-content/uploads/Midday-Reflection-Jan-Mar-2025-IG-SM-Posts.jpg
END:VEVENT
BEGIN:VEVENT
DTSTART;TZID=America/Jamaica:20251005T073000
DTEND;TZID=America/Jamaica:20251005T120000
DTSTAMP:20260421T061319
CREATED:20251001T225840Z
LAST-MODIFIED:20251001T225840Z
UID:6488-1759649400-1759665600@webstermemorial.org
SUMMARY:Sunday Service Worship - 7:30 & 10 AM
DESCRIPTION:
URL:https://webstermemorial.org/event/sunday-service-worship-730-10-am-3/
LOCATION:Webster Memorial United Chuch\, Jamaica
CATEGORIES:Worship Services
ATTACH;FMTTYPE=image/jpeg:https://webstermemorial.org/wp-content/uploads/Harvest-Promotional-Content-for-SM2.jpg
END:VEVENT
BEGIN:VEVENT
DTSTART;TZID=America/Jamaica:20251001T120000
DTEND;TZID=America/Jamaica:20251001T130000
DTSTAMP:20260421T061319
CREATED:20250926T204133Z
LAST-MODIFIED:20250926T204133Z
UID:6445-1759320000-1759323600@webstermemorial.org
SUMMARY:Mid-Day Reflections
DESCRIPTION:Join us for our Mid-Day Reflections this and every Wednesday in the Church Hall at 12 noon.
URL:https://webstermemorial.org/event/mid-day-reflections-22/
LOCATION:Webster Memorial United Chuch\, Jamaica
CATEGORIES:Holy,Worship Services
ATTACH;FMTTYPE=image/jpeg:https://webstermemorial.org/wp-content/uploads/unnamed-1.jpg
END:VEVENT
BEGIN:VEVENT
DTSTART;TZID=America/Jamaica:20250928T153000
DTEND;TZID=America/Jamaica:20250928T163000
DTSTAMP:20260421T061319
CREATED:20250926T154214Z
LAST-MODIFIED:20250926T154214Z
UID:6429-1759073400-1759077000@webstermemorial.org
SUMMARY:Sunday Praise
DESCRIPTION:A Re-Broadcast of Sunday Services \nLove 101 FM 3:30 – 4:30 pm \nListen Live
URL:https://webstermemorial.org/event/sunday-praise-9/
CATEGORIES:Radio,Worship Services
ATTACH;FMTTYPE=image/jpeg:https://webstermemorial.org/wp-content/uploads/Sunday-Praise.jpeg
END:VEVENT
BEGIN:VEVENT
DTSTART;TZID=America/Jamaica:20250928T080000
DTEND;TZID=America/Jamaica:20250928T220000
DTSTAMP:20260421T061319
CREATED:20250926T190835Z
LAST-MODIFIED:20250926T190835Z
UID:6435-1759046400-1759096800@webstermemorial.org
SUMMARY:Sunday Service Worship - 8 AM only
DESCRIPTION:
URL:https://webstermemorial.org/event/sunday-service-worship-8-am-only-5/
LOCATION:Webster Memorial United Chuch\, Jamaica
CATEGORIES:Worship Services
ATTACH;FMTTYPE=image/jpeg:https://webstermemorial.org/wp-content/uploads/Harvest-Promotional-Content-for-SM.jpg
END:VEVENT
BEGIN:VEVENT
DTSTART;TZID=America/Jamaica:20250924T120000
DTEND;TZID=America/Jamaica:20250924T130000
DTSTAMP:20260421T061319
CREATED:20250919T181331Z
LAST-MODIFIED:20250919T181331Z
UID:6374-1758715200-1758718800@webstermemorial.org
SUMMARY:Mid-Day Reflections
DESCRIPTION:Join us for our Mid-Day Reflections this and every Wednesday in the Church Hall at 12 noon.
URL:https://webstermemorial.org/event/mid-day-reflections-21/
LOCATION:Webster Memorial United Chuch\, Jamaica
CATEGORIES:Holy,Worship Services
ATTACH;FMTTYPE=image/png:https://webstermemorial.org/wp-content/uploads/unnamed-17.png
END:VEVENT
BEGIN:VEVENT
DTSTART;TZID=America/Jamaica:20250917T120000
DTEND;TZID=America/Jamaica:20250917T130000
DTSTAMP:20260421T061319
CREATED:20250915T161311Z
LAST-MODIFIED:20250915T161311Z
UID:6314-1758110400-1758114000@webstermemorial.org
SUMMARY:Mid-Day Reflections
DESCRIPTION:Join us for our Mid-Day Reflections this and every Wednesday in the Church Hall at 12 noon.
URL:https://webstermemorial.org/event/mid-day-reflections-20/
LOCATION:Webster Memorial United Chuch\, Jamaica
CATEGORIES:Holy,Worship Services
ATTACH;FMTTYPE=image/png:https://webstermemorial.org/wp-content/uploads/unnamed-17.png
END:VEVENT
BEGIN:VEVENT
DTSTART;TZID=America/Jamaica:20250914T153000
DTEND;TZID=America/Jamaica:20250914T163000
DTSTAMP:20260421T061319
CREATED:20250826T165821Z
LAST-MODIFIED:20250826T165821Z
UID:6205-1757863800-1757867400@webstermemorial.org
SUMMARY:Sunday Praise
DESCRIPTION:A Re-Broadcast of Sunday Services \nLove 101 FM 3:30 – 4:30 pm \nListen Live
URL:https://webstermemorial.org/event/sunday-praise-8/
CATEGORIES:Radio,Worship Services
ATTACH;FMTTYPE=image/jpeg:https://webstermemorial.org/wp-content/uploads/Sunday-Praise.jpeg
END:VEVENT
BEGIN:VEVENT
DTSTART;TZID=America/Jamaica:20250914T073000
DTEND;TZID=America/Jamaica:20250914T120000
DTSTAMP:20260421T061319
CREATED:20250914T121711Z
LAST-MODIFIED:20250914T121711Z
UID:6306-1757835000-1757851200@webstermemorial.org
SUMMARY:Sunday Service Worship - 7:30 & 10 AM
DESCRIPTION:
URL:https://webstermemorial.org/event/sunday-service-worship-730-10-am-2/
LOCATION:Webster Memorial United Chuch\, Jamaica
CATEGORIES:Worship Services
ATTACH;FMTTYPE=image/jpeg:https://webstermemorial.org/wp-content/uploads/September-2025-Sunday-Service-images-1.jpg
END:VEVENT
BEGIN:VEVENT
DTSTART;TZID=America/Jamaica:20250910T120000
DTEND;TZID=America/Jamaica:20250910T130000
DTSTAMP:20260421T061319
CREATED:20250908T221952Z
LAST-MODIFIED:20250908T221952Z
UID:6278-1757505600-1757509200@webstermemorial.org
SUMMARY:Mid-Day Reflections
DESCRIPTION:Join us for our Mid-Day Reflections this and every Wednesday in the Church Hall at 12 noon.
URL:https://webstermemorial.org/event/mid-day-reflections-19/
LOCATION:Webster Memorial United Chuch\, Jamaica
CATEGORIES:Holy,Worship Services
ATTACH;FMTTYPE=image/png:https://webstermemorial.org/wp-content/uploads/unnamed-17.png
END:VEVENT
BEGIN:VEVENT
DTSTART;TZID=America/Jamaica:20250907T073000
DTEND;TZID=America/Jamaica:20250907T120000
DTSTAMP:20260421T061319
CREATED:20250906T202539Z
LAST-MODIFIED:20250906T202539Z
UID:6268-1757230200-1757246400@webstermemorial.org
SUMMARY:Sunday Service Worship - 7:30 & 10 AM
DESCRIPTION:
URL:https://webstermemorial.org/event/sunday-service-worship-730-10-am/
LOCATION:Webster Memorial United Chuch\, Jamaica
CATEGORIES:Worship Services
ATTACH;FMTTYPE=image/jpeg:https://webstermemorial.org/wp-content/uploads/September-2025-Sunday-Service-images.jpg
END:VEVENT
BEGIN:VEVENT
DTSTART;TZID=America/Jamaica:20250831T080000
DTEND;TZID=America/Jamaica:20250831T220000
DTSTAMP:20260421T061319
CREATED:20250829T223400Z
LAST-MODIFIED:20250829T223400Z
UID:6218-1756627200-1756677600@webstermemorial.org
SUMMARY:Sunday Service Worship - 8 AM only
DESCRIPTION:
URL:https://webstermemorial.org/event/sunday-service-worship-8-am-only-4/
LOCATION:Webster Memorial United Chuch\, Jamaica
CATEGORIES:Worship Services
ATTACH;FMTTYPE=image/jpeg:https://webstermemorial.org/wp-content/uploads/August-2025-Sunday-Service-images-2.jpg
END:VEVENT
BEGIN:VEVENT
DTSTART;TZID=America/Jamaica:20250824T153000
DTEND;TZID=America/Jamaica:20250824T163000
DTSTAMP:20260421T061319
CREATED:20250811T151833Z
LAST-MODIFIED:20250811T151833Z
UID:6144-1756049400-1756053000@webstermemorial.org
SUMMARY:Sunday Praise
DESCRIPTION:A Re-Broadcast of Sunday Services \nLove 101 FM 3:30 – 4:30 pm \nListen Live
URL:https://webstermemorial.org/event/sunday-praise-7/
CATEGORIES:Radio,Worship Services
ATTACH;FMTTYPE=image/jpeg:https://webstermemorial.org/wp-content/uploads/Sunday-Praise.jpeg
END:VEVENT
BEGIN:VEVENT
DTSTART;TZID=America/Jamaica:20250824T080000
DTEND;TZID=America/Jamaica:20250824T220000
DTSTAMP:20260421T061319
CREATED:20250823T203611Z
LAST-MODIFIED:20250823T203742Z
UID:6198-1756022400-1756072800@webstermemorial.org
SUMMARY:Sunday Service Worship - 8 AM only
DESCRIPTION:
URL:https://webstermemorial.org/event/sunday-service-worship-8-am-only-3/
LOCATION:Webster Memorial United Chuch\, Jamaica
CATEGORIES:Worship Services
ATTACH;FMTTYPE=image/jpeg:https://webstermemorial.org/wp-content/uploads/August-2025-Sunday-Service-images-1.jpg
END:VEVENT
BEGIN:VEVENT
DTSTART;TZID=America/Jamaica:20250817T080000
DTEND;TZID=America/Jamaica:20250817T220000
DTSTAMP:20260421T061319
CREATED:20250817T014513Z
LAST-MODIFIED:20250817T014513Z
UID:6166-1755417600-1755468000@webstermemorial.org
SUMMARY:Sunday Service Worship - 8 AM only
DESCRIPTION:
URL:https://webstermemorial.org/event/sunday-service-worship-8-am-only-2/
LOCATION:Webster Memorial United Chuch\, Jamaica
CATEGORIES:Worship Services
ATTACH;FMTTYPE=image/jpeg:https://webstermemorial.org/wp-content/uploads/August-2025-Sunday-Service-images.jpg
END:VEVENT
END:VCALENDAR