BEGIN:VCALENDAR
VERSION:2.0
PRODID:-//Webster Memorial United Church - ECPv6.13.2.1//NONSGML v1.0//EN
CALSCALE:GREGORIAN
METHOD:PUBLISH
X-ORIGINAL-URL:https://webstermemorial.org
X-WR-CALDESC:Events for Webster Memorial United Church
REFRESH-INTERVAL;VALUE=DURATION:PT1H
X-Robots-Tag:noindex
X-PUBLISHED-TTL:PT1H
BEGIN:VTIMEZONE
TZID:America/Jamaica
BEGIN:STANDARD
TZOFFSETFROM:-0500
TZOFFSETTO:-0500
TZNAME:EST
DTSTART:20260101T000000
END:STANDARD
END:VTIMEZONE
BEGIN:VEVENT
DTSTART;TZID=America/Jamaica:20260330T180000
DTEND;TZID=America/Jamaica:20260330T193000
DTSTAMP:20260421T070025
CREATED:20260328T213650Z
LAST-MODIFIED:20260330T215016Z
UID:7262-1774893600-1774899000@webstermemorial.org
SUMMARY:Holy Week Service - Webster Memorial United Church
DESCRIPTION:Click here for the Order of Service\n  \n \n  \nhttps://www.youtube.com/@WebsterMemorialUnitedChurch
URL:https://webstermemorial.org/event/holy-week-service-webster-united-church/
LOCATION:Webster Memorial United Chuch\, Jamaica
CATEGORIES:Special Event,Worship Services
ATTACH;FMTTYPE=image/jpeg:https://webstermemorial.org/wp-content/uploads/Holy-Week-Service-March-30-2026-Image-R.jpg
END:VEVENT
END:VCALENDAR