BEGIN:VCALENDAR
VERSION:2.0
PRODID:-//Webster Memorial United Church - ECPv6.13.2.1//NONSGML v1.0//EN
CALSCALE:GREGORIAN
METHOD:PUBLISH
X-ORIGINAL-URL:https://webstermemorial.org
X-WR-CALDESC:Events for Webster Memorial United Church
REFRESH-INTERVAL;VALUE=DURATION:PT1H
X-Robots-Tag:noindex
X-PUBLISHED-TTL:PT1H
BEGIN:VTIMEZONE
TZID:America/Jamaica
BEGIN:STANDARD
TZOFFSETFROM:-0500
TZOFFSETTO:-0500
TZNAME:EST
DTSTART:20260101T000000
END:STANDARD
END:VTIMEZONE
BEGIN:VEVENT
DTSTART;TZID=America/Jamaica:20260322T170000
DTEND;TZID=America/Jamaica:20260322T193000
DTSTAMP:20260421T032534
CREATED:20260320T214427Z
LAST-MODIFIED:20260320T214427Z
UID:7206-1774198800-1774207800@webstermemorial.org
SUMMARY:WMYF Concert -SEEK HIS FACE
DESCRIPTION:
URL:https://webstermemorial.org/event/wmyf-concert-seek-his-face/
LOCATION:Webster Memorial United Chuch\, Jamaica
CATEGORIES:Events,Special Event
ATTACH;FMTTYPE=image/png:https://webstermemorial.org/wp-content/uploads/Seek-His-Face-preview-22.03.26.png
END:VEVENT
BEGIN:VEVENT
DTSTART;TZID=America/Jamaica:20260329T180000
DTEND;TZID=America/Jamaica:20260329T193000
DTSTAMP:20260421T032534
CREATED:20260328T212823Z
LAST-MODIFIED:20260328T213917Z
UID:7259-1774807200-1774812600@webstermemorial.org
SUMMARY:Holy Week Service - St. Stephen's United Church
DESCRIPTION:  \nhttps://www.youtube.com/@st.stephensunitedchurch7588/streams
URL:https://webstermemorial.org/event/holy-week-service-st-stephens-united-church/
LOCATION:St. Stephen’s United Church
CATEGORIES:Special Event,Worship Services
ATTACH;FMTTYPE=image/jpeg:https://webstermemorial.org/wp-content/uploads/NERMC-Cluster-5-2026-Holy-Week-Services-.jpg
END:VEVENT
BEGIN:VEVENT
DTSTART;TZID=America/Jamaica:20260330T180000
DTEND;TZID=America/Jamaica:20260330T193000
DTSTAMP:20260421T032534
CREATED:20260328T213650Z
LAST-MODIFIED:20260330T215016Z
UID:7262-1774893600-1774899000@webstermemorial.org
SUMMARY:Holy Week Service - Webster Memorial United Church
DESCRIPTION:Click here for the Order of Service\n  \n \n  \nhttps://www.youtube.com/@WebsterMemorialUnitedChurch
URL:https://webstermemorial.org/event/holy-week-service-webster-united-church/
LOCATION:Webster Memorial United Chuch\, Jamaica
CATEGORIES:Special Event,Worship Services
ATTACH;FMTTYPE=image/jpeg:https://webstermemorial.org/wp-content/uploads/Holy-Week-Service-March-30-2026-Image-R.jpg
END:VEVENT
BEGIN:VEVENT
DTSTART;TZID=America/Jamaica:20260331T183000
DTEND;TZID=America/Jamaica:20260331T193000
DTSTAMP:20260421T032534
CREATED:20260331T171645Z
LAST-MODIFIED:20260331T171645Z
UID:7278-1774981800-1774985400@webstermemorial.org
SUMMARY:Holy Week Service - Kintyre
DESCRIPTION:  \n 
URL:https://webstermemorial.org/event/holy-week-service-kintyre/
LOCATION:Kintyre United Church
CATEGORIES:Special Event,Worship Services
ATTACH;FMTTYPE=image/jpeg:https://webstermemorial.org/wp-content/uploads/NERMC-Cluster-5-2026-Holy-Week-Services-.jpg
END:VEVENT
END:VCALENDAR