BEGIN:VCALENDAR
VERSION:2.0
PRODID:-//Webster Memorial United Church - ECPv6.13.2.1//NONSGML v1.0//EN
CALSCALE:GREGORIAN
METHOD:PUBLISH
X-WR-CALNAME:Webster Memorial United Church
X-ORIGINAL-URL:https://webstermemorial.org
X-WR-CALDESC:Events for Webster Memorial United Church
REFRESH-INTERVAL;VALUE=DURATION:PT1H
X-Robots-Tag:noindex
X-PUBLISHED-TTL:PT1H
BEGIN:VTIMEZONE
TZID:America/Jamaica
BEGIN:STANDARD
TZOFFSETFROM:-0500
TZOFFSETTO:-0500
TZNAME:EST
DTSTART:20260101T000000
END:STANDARD
END:VTIMEZONE
BEGIN:VEVENT
DTSTART;TZID=America/Jamaica:20260426T153000
DTEND;TZID=America/Jamaica:20260426T163000
DTSTAMP:20260423T174725
CREATED:20251230T000355Z
LAST-MODIFIED:20260420T212931Z
UID:6822-1777217400-1777221000@webstermemorial.org
SUMMARY:Sunday Praise
DESCRIPTION:A Re-Broadcast of Sunday Services \nLove 101 FM 3:30 – 4:30 pm \nListen Live
URL:https://webstermemorial.org/event/sunday-praise-2026/
LOCATION:Online
CATEGORIES:Radio,Worship Services
ATTACH;FMTTYPE=image/jpeg:https://webstermemorial.org/wp-content/uploads/Sunday-Praise.jpeg
END:VEVENT
END:VCALENDAR