BEGIN:VCALENDAR
VERSION:2.0
PRODID:-//Webster Memorial United Church - ECPv6.13.2.1//NONSGML v1.0//EN
CALSCALE:GREGORIAN
METHOD:PUBLISH
X-WR-CALNAME:Webster Memorial United Church
X-ORIGINAL-URL:https://webstermemorial.org
X-WR-CALDESC:Events for Webster Memorial United Church
REFRESH-INTERVAL;VALUE=DURATION:PT1H
X-Robots-Tag:noindex
X-PUBLISHED-TTL:PT1H
BEGIN:VTIMEZONE
TZID:America/Jamaica
BEGIN:STANDARD
TZOFFSETFROM:-0500
TZOFFSETTO:-0500
TZNAME:EST
DTSTART:20250101T000000
END:STANDARD
END:VTIMEZONE
BEGIN:VEVENT
DTSTART;TZID=America/Jamaica:20260212T080000
DTEND;TZID=America/Jamaica:20260212T160000
DTSTAMP:20260421T082032
CREATED:20260127T210755Z
LAST-MODIFIED:20260127T210755Z
UID:6929-1770883200-1770912000@webstermemorial.org
SUMMARY:LIVE 2 LEAD 2026
DESCRIPTION:  \n\n\n\nLeadership Edge is pleased to present Live2Lead\, a hybrid leadership \n\n\ndevelopment event\, taking place on Thursday\, February 12\, from 8:00 \n\n\na.m. to 4:00 p.m. in the auditorium of Hope Fellowship Church\, located \n\n\nat 23 Molynes Road\, Kingston 10. \n\n\n\n\nLeadership Edge is a capacity-building organisation that equips and \n\n\nsupports individuals and organisations to grow their leadership and \n\n\nincrease their impact. The Leadership Edge team is led by Sam McCook\, \n\n\nwho has extensive experience in leadership and communications at the \n\n\nlocal\, regional\, and international levels and is an Executive Director in the \n\n\nMaxwell Leadership Organisation and a certified Live2Lead host. \n\n\n\n\nLive2Lead is a hybrid leadership experience\, offering two participation \n\n\noptions: \n\n\nIn-person attendance at the Hope Fellowship Church Auditorium \n\n\n• Virtual attendance via livestream with extended access \n\n\n\nLive2Lead is a hybrid leadership experience\, offering two participation \n\n\noptions: \n\n\nIn-person attendance at the Hope Fellowship Church Auditorium \n\n\n• Virtual attendance via livestream with extended access \n\n\n\nRegistration is now open. \n\n\n\nWe invite you and your team to share in this \n\n\ngrowth opportunity and register by scanning \n\n\nthe QR code.
URL:https://webstermemorial.org/event/live-2-lead-2026/
LOCATION:Hope Fellowship\, Jamaica
CATEGORIES:Events,Meetings,Panel Discussion
ATTACH;FMTTYPE=image/png:https://webstermemorial.org/wp-content/uploads/Live-2-Lead-2026-preview-image.png
END:VEVENT
BEGIN:VEVENT
DTSTART;TZID=America/Jamaica:20250807T090000
DTEND;TZID=America/Jamaica:20250807T110000
DTSTAMP:20260421T082033
CREATED:20250715T203932Z
LAST-MODIFIED:20250726T203332Z
UID:6056-1754557200-1754564400@webstermemorial.org
SUMMARY:The World Theology Forum - Delgate Session - Event Cancelled
DESCRIPTION:
URL:https://webstermemorial.org/event/the-world-theology-forum-delgate-session/
LOCATION:Online
CATEGORIES:Panel Discussion
ATTACH;FMTTYPE=image/jpeg:https://webstermemorial.org/wp-content/uploads/World-Theology-Forum.jpg
END:VEVENT
BEGIN:VEVENT
DTSTART;TZID=America/Jamaica:20250327T180000
DTEND;TZID=America/Jamaica:20250327T200000
DTSTAMP:20260421T082033
CREATED:20250325T190218Z
LAST-MODIFIED:20250325T190218Z
UID:5467-1743098400-1743105600@webstermemorial.org
SUMMARY:Webster Men's Fellowship Men's Forum
DESCRIPTION:Brother’s\, the time is Now for Church\, Community and Country \nMarch 27\, 2025 – 6 pm \nWebster Church Hall
URL:https://webstermemorial.org/event/webster-mens-fellowship-mens-forum/
LOCATION:Webster Memorial United Chuch\, Jamaica
CATEGORIES:Events,Panel Discussion
ATTACH;FMTTYPE=image/png:https://webstermemorial.org/wp-content/uploads/MOP-March-2025-Forum.png
END:VEVENT
END:VCALENDAR