BEGIN:VCALENDAR
VERSION:2.0
PRODID:-//Webster Memorial United Church - ECPv6.13.2.1//NONSGML v1.0//EN
CALSCALE:GREGORIAN
METHOD:PUBLISH
X-ORIGINAL-URL:https://webstermemorial.org
X-WR-CALDESC:Events for Webster Memorial United Church
REFRESH-INTERVAL;VALUE=DURATION:PT1H
X-Robots-Tag:noindex
X-PUBLISHED-TTL:PT1H
BEGIN:VTIMEZONE
TZID:America/Jamaica
BEGIN:STANDARD
TZOFFSETFROM:-0500
TZOFFSETTO:-0500
TZNAME:EST
DTSTART:20250101T000000
END:STANDARD
END:VTIMEZONE
BEGIN:VEVENT
DTSTART;TZID=America/Jamaica:20250403T180000
DTEND;TZID=America/Jamaica:20250403T193000
DTSTAMP:20260421T213258
CREATED:20250402T185541Z
LAST-MODIFIED:20250402T185541Z
UID:5545-1743703200-1743708600@webstermemorial.org
SUMMARY:CHILD OF GOD TEACHING SERIES – Going D.E.E.P.
DESCRIPTION:The Child of God Teaching Series: Going ‘D.E.E.P’ on Tuesdays and Thursdays\, April 1\, 3\, 8\, 10\, 2025  with facilitators: Rev. Laddia Young\, Youth Minister. UCJCI\, and Rev. Dr. Collin Cowan\, Former General Secretary\, CWM / UCJCI\, begins later today at 6pm. \n  \nRegistration link – https://forms.gle/DSFjj3x6cBzdiEaj9 \n  \n 
URL:https://webstermemorial.org/event/child-of-god-teaching-series-going-d-e-e-p-2/
LOCATION:Online
CATEGORIES:Meetings,Online
ATTACH;FMTTYPE=image/jpeg:https://webstermemorial.org/wp-content/uploads/Going-D.E.E.P.jpg
ORGANIZER;CN="Discipleship Institute":MAILTO:webstermemorialdiscipleship@gmail.com
END:VEVENT
BEGIN:VEVENT
DTSTART;TZID=America/Jamaica:20250404T190000
DTEND;TZID=America/Jamaica:20250404T203000
DTSTAMP:20260421T213258
CREATED:20250404T041840Z
LAST-MODIFIED:20250404T041840Z
UID:5549-1743793200-1743798600@webstermemorial.org
SUMMARY:Youth Fellowship Meeting
DESCRIPTION:
URL:https://webstermemorial.org/event/youth-fellowship-meeting-3/
LOCATION:Webster Memorial United Chuch\, Jamaica
CATEGORIES:Meetings
END:VEVENT
BEGIN:VEVENT
DTSTART;TZID=America/Jamaica:20250405T063000
DTEND;TZID=America/Jamaica:20250405T203000
DTSTAMP:20260421T213258
CREATED:20250405T191132Z
LAST-MODIFIED:20250405T191132Z
UID:5572-1743834600-1743885000@webstermemorial.org
SUMMARY:WYAAM Meeting
DESCRIPTION:
URL:https://webstermemorial.org/event/wyaam-meeting/
LOCATION:Webster Memorial United Chuch\, Jamaica
CATEGORIES:Events,Meetings
ATTACH;FMTTYPE=image/jpeg:https://webstermemorial.org/wp-content/uploads/IMG-20250404-WA0013.jpg
END:VEVENT
BEGIN:VEVENT
DTSTART;TZID=America/Jamaica:20250405T130000
DTEND;TZID=America/Jamaica:20250405T160000
DTSTAMP:20260421T213258
CREATED:20250402T185655Z
LAST-MODIFIED:20250402T185655Z
UID:5547-1743858000-1743868800@webstermemorial.org
SUMMARY:Girls Brigade Meeting
DESCRIPTION:
URL:https://webstermemorial.org/event/girls-brigade-meeting-3/
LOCATION:Webster Memorial United Chuch\, Jamaica
CATEGORIES:Meetings
END:VEVENT
BEGIN:VEVENT
DTSTART;TZID=America/Jamaica:20250405T140000
DTEND;TZID=America/Jamaica:20250405T170000
DTSTAMP:20260421T213258
CREATED:20250402T145943Z
LAST-MODIFIED:20250402T145943Z
UID:5543-1743861600-1743872400@webstermemorial.org
SUMMARY:Boys Brigade Meeting
DESCRIPTION:
URL:https://webstermemorial.org/event/boys-brigade-meeting-2/
LOCATION:Webster Memorial United Chuch\, Jamaica
CATEGORIES:Meetings
END:VEVENT
BEGIN:VEVENT
DTSTART;TZID=America/Jamaica:20250430T180000
DTEND;TZID=America/Jamaica:20250430T200000
DTSTAMP:20260421T213258
CREATED:20250428T182454Z
LAST-MODIFIED:20250428T182454Z
UID:5612-1746036000-1746043200@webstermemorial.org
SUMMARY:Bible Study & Prayer Meeting
DESCRIPTION:Bible Study with Dr. Michelle Thompson \nWe are Ambassadors \nfollowed by Prayer Meeting \nClick here for the Zoom link \nMeeting ID – 832 6859 4022 \nPasscode – 934137Hide \n 
URL:https://webstermemorial.org/event/bible-study-prayer-meeting-4/
LOCATION:Online
CATEGORIES:Meetings,Online
ATTACH;FMTTYPE=image/png:https://webstermemorial.org/wp-content/uploads/unnamed-7.png
END:VEVENT
BEGIN:VEVENT
DTSTART;TZID=America/Jamaica:20250502T190000
DTEND;TZID=America/Jamaica:20250502T203000
DTSTAMP:20260421T213258
CREATED:20250430T194912Z
LAST-MODIFIED:20250430T194912Z
UID:5626-1746212400-1746217800@webstermemorial.org
SUMMARY:Youth Fellowship Meeting
DESCRIPTION:
URL:https://webstermemorial.org/event/youth-fellowship-meeting-4/
LOCATION:Webster Memorial United Chuch\, Jamaica
CATEGORIES:Meetings
END:VEVENT
BEGIN:VEVENT
DTSTART;TZID=America/Jamaica:20250503T063000
DTEND;TZID=America/Jamaica:20250503T203000
DTSTAMP:20260421T213258
CREATED:20250503T200316Z
LAST-MODIFIED:20250503T201459Z
UID:5651-1746253800-1746304200@webstermemorial.org
SUMMARY:WYAAM Meeting
DESCRIPTION:WYAAM presents \nTHE AREA OF EFFECT OF SIN \nwith Dr. Tamika Benjamin \nWebster Eden Garden & Zoom \nTopic: Webster Memorial United Church\, Jamaica’s Zoom Meeting-Young Adults 6:30pm\nTime: May 3\, 2025 06:30 PM Bogota\nJoin Zoom Meeting\nhttps://us02web.zoom.us/j/83833021775?pwd=VlTnFUTI47VMyQPSjKRKw3zsdOpbC9.1 \nMeeting ID: 838 3302 1775\nPasscode: 316994
URL:https://webstermemorial.org/event/wyaam-meeting-2/
LOCATION:Webster Memorial United Chuch\, Jamaica
CATEGORIES:Events,Meetings
ATTACH;FMTTYPE=image/jpeg:https://webstermemorial.org/wp-content/uploads/WYAAM-May-3-2025-1.jpg
END:VEVENT
BEGIN:VEVENT
DTSTART;TZID=America/Jamaica:20250503T130000
DTEND;TZID=America/Jamaica:20250503T160000
DTSTAMP:20260421T213258
CREATED:20250430T195034Z
LAST-MODIFIED:20250430T195034Z
UID:5628-1746277200-1746288000@webstermemorial.org
SUMMARY:Girls Brigade Meeting
DESCRIPTION:
URL:https://webstermemorial.org/event/girls-brigade-meeting-4/
LOCATION:Webster Memorial United Chuch\, Jamaica
CATEGORIES:Meetings
END:VEVENT
BEGIN:VEVENT
DTSTART;TZID=America/Jamaica:20250503T140000
DTEND;TZID=America/Jamaica:20250503T170000
DTSTAMP:20260421T213258
CREATED:20250501T210250Z
LAST-MODIFIED:20250501T210906Z
UID:5634-1746280800-1746291600@webstermemorial.org
SUMMARY:Boys Brigade Meeting
DESCRIPTION:
URL:https://webstermemorial.org/event/boys-brigade-meeting-3/
LOCATION:Webster Memorial United Chuch\, Jamaica
CATEGORIES:Meetings
END:VEVENT
BEGIN:VEVENT
DTSTART;TZID=America/Jamaica:20250507T093000
DTEND;TZID=America/Jamaica:20250507T120000
DTSTAMP:20260421T213258
CREATED:20250505T203509Z
LAST-MODIFIED:20250505T203509Z
UID:5666-1746610200-1746619200@webstermemorial.org
SUMMARY:SENIORS MINISTRY
DESCRIPTION:The SENIORS Ministry will resume Exercise at 9:45 am in the Sunday School Room on\nMay 7th\, followed by Bible Study at 11 am with Rev. Paul DaCosta-Pinto\, studying the\nbook of Titus. Hope to see you there.
URL:https://webstermemorial.org/event/seniors-ministry-3/
LOCATION:Webster Memorial United Chuch\, Jamaica
CATEGORIES:Meetings
END:VEVENT
BEGIN:VEVENT
DTSTART;TZID=America/Jamaica:20250507T180000
DTEND;TZID=America/Jamaica:20250507T200000
DTSTAMP:20260421T213258
CREATED:20250502T201705Z
LAST-MODIFIED:20250507T221208Z
UID:5644-1746640800-1746648000@webstermemorial.org
SUMMARY:Bible Study & Prayer Meeting
DESCRIPTION:Bible Study with Rev. Astor Carlyle \nMinisters Proclaim \nfollowed by Prayer Meeting \nClick here for the Zoom link \nMeeting ID – 832 6859 4022 \nPasscode – 934137Hide \nClick here for prayer request
URL:https://webstermemorial.org/event/bible-study-prayer-meeting-5/
LOCATION:Online
CATEGORIES:Meetings,Online
ATTACH;FMTTYPE=image/png:https://webstermemorial.org/wp-content/uploads/Prayer-meeting-Ministers-proclaim-2025.png
END:VEVENT
BEGIN:VEVENT
DTSTART;TZID=America/Jamaica:20250509T190000
DTEND;TZID=America/Jamaica:20250509T203000
DTSTAMP:20260421T213258
CREATED:20250505T202418Z
LAST-MODIFIED:20250505T202418Z
UID:5664-1746817200-1746822600@webstermemorial.org
SUMMARY:Youth Fellowship Meeting
DESCRIPTION:
URL:https://webstermemorial.org/event/youth-fellowship-meeting-5/
LOCATION:Webster Memorial United Chuch\, Jamaica
CATEGORIES:Meetings
END:VEVENT
BEGIN:VEVENT
DTSTART;TZID=America/Jamaica:20250510T130000
DTEND;TZID=America/Jamaica:20250510T160000
DTSTAMP:20260421T213258
CREATED:20250505T202126Z
LAST-MODIFIED:20250505T202126Z
UID:5662-1746882000-1746892800@webstermemorial.org
SUMMARY:Girls Brigade Meeting
DESCRIPTION:
URL:https://webstermemorial.org/event/girls-brigade-meeting-5/
LOCATION:Webster Memorial United Chuch\, Jamaica
CATEGORIES:Meetings
END:VEVENT
BEGIN:VEVENT
DTSTART;TZID=America/Jamaica:20250510T140000
DTEND;TZID=America/Jamaica:20250510T170000
DTSTAMP:20260421T213258
CREATED:20250505T202008Z
LAST-MODIFIED:20250506T220957Z
UID:5660-1746885600-1746896400@webstermemorial.org
SUMMARY:Boys Brigade Meeting
DESCRIPTION:
URL:https://webstermemorial.org/event/boys-brigade-meeting-4/
LOCATION:Webster Memorial United Chuch\, Jamaica
CATEGORIES:Meetings
END:VEVENT
BEGIN:VEVENT
DTSTART;TZID=America/Jamaica:20250514T093000
DTEND;TZID=America/Jamaica:20250514T120000
DTSTAMP:20260421T213258
CREATED:20250513T170020Z
LAST-MODIFIED:20250513T170020Z
UID:5690-1747215000-1747224000@webstermemorial.org
SUMMARY:SENIORS MINISTRY
DESCRIPTION:The SENIORS Ministry will continue their Exercise Class at 9:45 am in the Sunday School Room on May 14th\, followed by Bible Study at 11 am with Rev. Paul DaCosta-Pinto\, studying the book of Titus. Hope to see you there.
URL:https://webstermemorial.org/event/seniors-ministry-4/
LOCATION:Webster Memorial United Chuch\, Jamaica
CATEGORIES:Meetings
END:VEVENT
BEGIN:VEVENT
DTSTART;TZID=America/Jamaica:20250514T180000
DTEND;TZID=America/Jamaica:20250514T200000
DTSTAMP:20260421T213258
CREATED:20250512T050000Z
LAST-MODIFIED:20250513T191317Z
UID:5682-1747245600-1747252800@webstermemorial.org
SUMMARY:Bible Study & Prayer Meeting
DESCRIPTION:Bible Study with Rev. Astor Carlyle \nProphesy \nfollowed by Prayer Meeting \nClick here for the Zoom link \nMeeting ID – 832 6859 4022 \nPasscode – 934137Hide \nClick here for prayer request
URL:https://webstermemorial.org/event/bible-study-prayer-meeting-6/
LOCATION:Online
CATEGORIES:Meetings,Online
ATTACH;FMTTYPE=image/png:https://webstermemorial.org/wp-content/uploads/BIBLE-STUDY-February-12-2025.png
END:VEVENT
BEGIN:VEVENT
DTSTART;TZID=America/Jamaica:20250516T190000
DTEND;TZID=America/Jamaica:20250516T203000
DTSTAMP:20260421T213258
CREATED:20250516T155931Z
LAST-MODIFIED:20250516T155931Z
UID:5748-1747422000-1747427400@webstermemorial.org
SUMMARY:Youth Fellowship Meeting
DESCRIPTION:
URL:https://webstermemorial.org/event/youth-fellowship-meeting-6/
LOCATION:Webster Memorial United Chuch\, Jamaica
CATEGORIES:Meetings
END:VEVENT
BEGIN:VEVENT
DTSTART;TZID=America/Jamaica:20250517T130000
DTEND;TZID=America/Jamaica:20250517T160000
DTSTAMP:20260421T213258
CREATED:20250514T172807Z
LAST-MODIFIED:20250516T144601Z
UID:5741-1747486800-1747497600@webstermemorial.org
SUMMARY:Girls Brigade Meeting
DESCRIPTION:
URL:https://webstermemorial.org/event/girls-brigade-meeting-6/
LOCATION:Webster Memorial United Chuch\, Jamaica
CATEGORIES:Meetings
END:VEVENT
BEGIN:VEVENT
DTSTART;TZID=America/Jamaica:20250517T140000
DTEND;TZID=America/Jamaica:20250517T170000
DTSTAMP:20260421T213258
CREATED:20250516T161717Z
LAST-MODIFIED:20250516T161717Z
UID:5756-1747490400-1747501200@webstermemorial.org
SUMMARY:Boys Brigade Meeting
DESCRIPTION:
URL:https://webstermemorial.org/event/boys-brigade-meeting-5/
LOCATION:Webster Memorial United Chuch\, Jamaica
CATEGORIES:Meetings
END:VEVENT
BEGIN:VEVENT
DTSTART;TZID=America/Jamaica:20250520T180000
DTEND;TZID=America/Jamaica:20250520T200000
DTSTAMP:20260421T213258
CREATED:20250516T155024Z
LAST-MODIFIED:20250516T155024Z
UID:5752-1747764000-1747771200@webstermemorial.org
SUMMARY:Ministries Meeting
DESCRIPTION:
URL:https://webstermemorial.org/event/ministries-meeting/
LOCATION:Online
CATEGORIES:Meetings,Online
END:VEVENT
BEGIN:VEVENT
DTSTART;TZID=America/Jamaica:20250521T093000
DTEND;TZID=America/Jamaica:20250521T120000
DTSTAMP:20260421T213258
CREATED:20250520T203515Z
LAST-MODIFIED:20250520T203515Z
UID:5771-1747819800-1747828800@webstermemorial.org
SUMMARY:SENIORS MINISTRY
DESCRIPTION:The SENIORS Ministry will continue their Exercise Class at 9:45 am in the Sunday School Room on May 21st\, followed by Bible Study at 11 am with Rev. Paul DaCosta-Pinto\, studying the book of Jude. Hope to see you there.
URL:https://webstermemorial.org/event/seniors-ministry-5/
LOCATION:Webster Memorial United Chuch\, Jamaica
CATEGORIES:Meetings
ATTACH;FMTTYPE=image/jpeg:https://webstermemorial.org/wp-content/uploads/SENIORS-Ministry-Image.jpg
END:VEVENT
BEGIN:VEVENT
DTSTART;TZID=America/Jamaica:20250521T180000
DTEND;TZID=America/Jamaica:20250521T200000
DTSTAMP:20260421T213258
CREATED:20250516T162701Z
LAST-MODIFIED:20250521T170104Z
UID:5758-1747850400-1747857600@webstermemorial.org
SUMMARY:Bible Study & Prayer Meeting
DESCRIPTION:Bible Study with Rev. Astor Carlyle \nMinisters Pray \nfollowed by Prayer Meeting \nClick here for the Zoom link \nMeeting ID – 832 6859 4022 \nPasscode – 934137Hide \nClick here for prayer request \nRead Nehemiah chapters 1 & 2
URL:https://webstermemorial.org/event/bible-study-prayer-meeting-7/
LOCATION:Online
CATEGORIES:Meetings,Online
ATTACH;FMTTYPE=image/png:https://webstermemorial.org/wp-content/uploads/BIBLE-STUDY-February-12-20251.png
END:VEVENT
BEGIN:VEVENT
DTSTART;TZID=America/Jamaica:20250523T190000
DTEND;TZID=America/Jamaica:20250523T203000
DTSTAMP:20260421T213258
CREATED:20250523T232155Z
LAST-MODIFIED:20250523T232249Z
UID:5799-1748026800-1748032200@webstermemorial.org
SUMMARY:Youth Fellowship Meeting
DESCRIPTION:
URL:https://webstermemorial.org/event/youth-fellowship-meeting-7/
LOCATION:Webster Memorial United Chuch\, Jamaica
CATEGORIES:Meetings
ATTACH;FMTTYPE=image/jpeg:https://webstermemorial.org/wp-content/uploads/Youth-Fellowship-2025-poster.jpg
END:VEVENT
BEGIN:VEVENT
DTSTART;TZID=America/Jamaica:20250524T130000
DTEND;TZID=America/Jamaica:20250524T160000
DTSTAMP:20260421T213258
CREATED:20250521T203452Z
LAST-MODIFIED:20250521T203841Z
UID:5783-1748091600-1748102400@webstermemorial.org
SUMMARY:Girls Brigade Meeting
DESCRIPTION:
URL:https://webstermemorial.org/event/girls-brigade-meeting-7/
LOCATION:Webster Memorial United Chuch\, Jamaica
CATEGORIES:Meetings
ATTACH;FMTTYPE=image/jpeg:https://webstermemorial.org/wp-content/uploads/Girls-Brigade-2025-poster.jpg
END:VEVENT
BEGIN:VEVENT
DTSTART;TZID=America/Jamaica:20250524T140000
DTEND;TZID=America/Jamaica:20250524T170000
DTSTAMP:20260421T213258
CREATED:20250524T170533Z
LAST-MODIFIED:20250524T170533Z
UID:5802-1748095200-1748106000@webstermemorial.org
SUMMARY:Boys Brigade Meeting
DESCRIPTION:
URL:https://webstermemorial.org/event/boys-brigade-meeting-6/
LOCATION:Webster Memorial United Chuch\, Jamaica
CATEGORIES:Meetings
ATTACH;FMTTYPE=image/jpeg:https://webstermemorial.org/wp-content/uploads/Boys-Brigade-2025-poster-IG.jpg
END:VEVENT
BEGIN:VEVENT
DTSTART;TZID=America/Jamaica:20250528T093000
DTEND;TZID=America/Jamaica:20250528T120000
DTSTAMP:20260421T213258
CREATED:20250526T180426Z
LAST-MODIFIED:20250526T180426Z
UID:5815-1748424600-1748433600@webstermemorial.org
SUMMARY:SENIORS MINISTRY
DESCRIPTION:The SENIORS Ministry will continue their Exercise Class at 9:45 am in the Sunday School Room on May 28th\, followed by Bible Study at 11 am with Rev. Paul DaCosta-Pinto. Hope to see you there.
URL:https://webstermemorial.org/event/seniors-ministry-6/
LOCATION:Webster Memorial United Chuch\, Jamaica
CATEGORIES:Meetings
ATTACH;FMTTYPE=image/jpeg:https://webstermemorial.org/wp-content/uploads/SENIORS-Ministry-Image.jpg
END:VEVENT
BEGIN:VEVENT
DTSTART;TZID=America/Jamaica:20250528T180000
DTEND;TZID=America/Jamaica:20250528T200000
DTSTAMP:20260421T213258
CREATED:20250522T200459Z
LAST-MODIFIED:20250522T200459Z
UID:5790-1748455200-1748462400@webstermemorial.org
SUMMARY:Bible Study & Prayer Meeting
DESCRIPTION:Bible Study with Rev. Astor Carlyle \nMinisters Presence \nfollowed by Prayer Meeting \nClick here for the Zoom link \nMeeting ID – 832 6859 4022 \nPasscode – 934137Hide \nClick here for prayer request
URL:https://webstermemorial.org/event/bible-study-prayer-meeting-8/
LOCATION:Online
CATEGORIES:Meetings,Online
ATTACH;FMTTYPE=image/jpeg:https://webstermemorial.org/wp-content/uploads/BIBLE-STUDY-May-14-2025.jpg
END:VEVENT
BEGIN:VEVENT
DTSTART;TZID=America/Jamaica:20250530T190000
DTEND;TZID=America/Jamaica:20250530T203000
DTSTAMP:20260421T213258
CREATED:20250526T175540Z
LAST-MODIFIED:20250526T175540Z
UID:5807-1748631600-1748637000@webstermemorial.org
SUMMARY:Youth Fellowship Meeting
DESCRIPTION:
URL:https://webstermemorial.org/event/youth-fellowship-meeting-8/
LOCATION:Webster Memorial United Chuch\, Jamaica
CATEGORIES:Meetings
ATTACH;FMTTYPE=image/jpeg:https://webstermemorial.org/wp-content/uploads/Youth-Fellowship-2025-poster.jpg
END:VEVENT
BEGIN:VEVENT
DTSTART;TZID=America/Jamaica:20250531T063000
DTEND;TZID=America/Jamaica:20250531T203000
DTSTAMP:20260421T213258
CREATED:20250531T165629Z
LAST-MODIFIED:20250531T165629Z
UID:5841-1748673000-1748723400@webstermemorial.org
SUMMARY:WYAAM Meeting
DESCRIPTION:Webster Eden Garden & Zoom \nTopic: Webster Memorial United Church\, Jamaica’s Zoom Meeting-Young Adults 6:30pm\nTime: May 31\, 2025 06:30 PM Bogota\nJoin Zoom Meeting\nhttps://us02web.zoom.us/j/83833021775?pwd=VlTnFUTI47VMyQPSjKRKw3zsdOpbC9.1 \nMeeting ID: 838 3302 1775\nPasscode: 316994 \n 
URL:https://webstermemorial.org/event/wyaam-meeting-3/
LOCATION:Webster Memorial United Chuch\, Jamaica
CATEGORIES:Events,Meetings
END:VEVENT
END:VCALENDAR