BEGIN:VCALENDAR
VERSION:2.0
PRODID:-//Webster Memorial United Church - ECPv6.13.2.1//NONSGML v1.0//EN
CALSCALE:GREGORIAN
METHOD:PUBLISH
X-ORIGINAL-URL:https://webstermemorial.org
X-WR-CALDESC:Events for Webster Memorial United Church
REFRESH-INTERVAL;VALUE=DURATION:PT1H
X-Robots-Tag:noindex
X-PUBLISHED-TTL:PT1H
BEGIN:VTIMEZONE
TZID:America/Jamaica
BEGIN:STANDARD
TZOFFSETFROM:-0500
TZOFFSETTO:-0500
TZNAME:EST
DTSTART:20250101T000000
END:STANDARD
END:VTIMEZONE
BEGIN:VEVENT
DTSTART;TZID=America/Jamaica:20250917T093000
DTEND;TZID=America/Jamaica:20250917T120000
DTSTAMP:20260421T065720
CREATED:20250913T133900Z
LAST-MODIFIED:20250913T133900Z
UID:6301-1758101400-1758110400@webstermemorial.org
SUMMARY:SENIORS MINISTRY
DESCRIPTION:The SENIORS Ministry will resume physical activities at 9:45 am in the Sunday School Room on September 17 followed by Bible Study with Rev. Paul Dacosta Pinto on the book of Galatians  at 11 AM.  All seniors are invited to attend.
URL:https://webstermemorial.org/event/seniors-ministry-17/
LOCATION:Webster Memorial United Chuch\, Jamaica
CATEGORIES:Meetings
ATTACH;FMTTYPE=image/jpeg:https://webstermemorial.org/wp-content/uploads/SENIORS-Ministry-Image.jpg
END:VEVENT
BEGIN:VEVENT
DTSTART;TZID=America/Jamaica:20250917T180000
DTEND;TZID=America/Jamaica:20250917T200000
DTSTAMP:20260421T065720
CREATED:20250915T161216Z
LAST-MODIFIED:20250915T161216Z
UID:6312-1758132000-1758139200@webstermemorial.org
SUMMARY:Bible Study & Prayer Meeting
DESCRIPTION:Bible Study with Rev. Delroy Harris \nWe are Learners \nfollowed by Prayer Meeting \nClick here for the Zoom link \nMeeting ID – 832 6859 4022 \nPasscode – 934137Hide \nClick here for prayer request
URL:https://webstermemorial.org/event/bible-study-prayer-meeting-18/
LOCATION:Online
CATEGORIES:Meetings,Online
ATTACH;FMTTYPE=image/jpeg:https://webstermemorial.org/wp-content/uploads/BIBLE-STUDY-July-16-2025.jpg
END:VEVENT
END:VCALENDAR