BEGIN:VCALENDAR
VERSION:2.0
PRODID:-//Webster Memorial United Church - ECPv6.13.2.1//NONSGML v1.0//EN
CALSCALE:GREGORIAN
METHOD:PUBLISH
X-ORIGINAL-URL:https://webstermemorial.org
X-WR-CALDESC:Events for Webster Memorial United Church
REFRESH-INTERVAL;VALUE=DURATION:PT1H
X-Robots-Tag:noindex
X-PUBLISHED-TTL:PT1H
BEGIN:VTIMEZONE
TZID:America/Jamaica
BEGIN:STANDARD
TZOFFSETFROM:-0500
TZOFFSETTO:-0500
TZNAME:EST
DTSTART:20250101T000000
END:STANDARD
END:VTIMEZONE
BEGIN:VEVENT
DTSTART;TZID=America/Jamaica:20250719T130000
DTEND;TZID=America/Jamaica:20250719T160000
DTSTAMP:20260421T061515
CREATED:20250715T213324Z
LAST-MODIFIED:20250715T213324Z
UID:6061-1752930000-1752940800@webstermemorial.org
SUMMARY:Girls Brigade Meeting
DESCRIPTION:
URL:https://webstermemorial.org/event/girls-brigade-meeting-14/
LOCATION:Webster Memorial United Chuch\, Jamaica
CATEGORIES:Meetings
ATTACH;FMTTYPE=image/jpeg:https://webstermemorial.org/wp-content/uploads/Girls-Brigade-2025-poster.jpg
END:VEVENT
BEGIN:VEVENT
DTSTART;TZID=America/Jamaica:20250719T140000
DTEND;TZID=America/Jamaica:20250719T170000
DTSTAMP:20260421T061515
CREATED:20250715T213406Z
LAST-MODIFIED:20250715T213406Z
UID:6063-1752933600-1752944400@webstermemorial.org
SUMMARY:Boys Brigade Meeting
DESCRIPTION:
URL:https://webstermemorial.org/event/boys-brigade-meeting-13/
LOCATION:Webster Memorial United Chuch\, Jamaica
CATEGORIES:Meetings
ATTACH;FMTTYPE=image/jpeg:https://webstermemorial.org/wp-content/uploads/Boys-Brigade-2025-poster-IG.jpg
END:VEVENT
BEGIN:VEVENT
DTSTART;TZID=America/Jamaica:20250719T183000
DTEND;TZID=America/Jamaica:20250719T203000
DTSTAMP:20260421T061516
CREATED:20250715T213828Z
LAST-MODIFIED:20250715T213828Z
UID:6065-1752949800-1752957000@webstermemorial.org
SUMMARY:WYAAM Meeting
DESCRIPTION:Webster Eden Garden & Zoom \nTopic: Webster Memorial United Church\, Jamaica’s Zoom Meeting-Young Adults 6:30pm\nTime: May 31\, 2025 06:30 PM Bogota\nJoin Zoom Meeting\nhttps://us02web.zoom.us/j/83833021775?pwd=VlTnFUTI47VMyQPSjKRKw3zsdOpbC9.1 \nMeeting ID: 838 3302 1775\nPasscode: 316994 \n 
URL:https://webstermemorial.org/event/wyaam-meeting-5/
LOCATION:Webster Memorial United Chuch\, Jamaica
CATEGORIES:Events,Meetings
END:VEVENT
END:VCALENDAR