BEGIN:VCALENDAR
VERSION:2.0
PRODID:-//Webster Memorial United Church - ECPv6.13.2.1//NONSGML v1.0//EN
CALSCALE:GREGORIAN
METHOD:PUBLISH
X-WR-CALNAME:Webster Memorial United Church
X-ORIGINAL-URL:https://webstermemorial.org
X-WR-CALDESC:Events for Webster Memorial United Church
REFRESH-INTERVAL;VALUE=DURATION:PT1H
X-Robots-Tag:noindex
X-PUBLISHED-TTL:PT1H
BEGIN:VTIMEZONE
TZID:America/Jamaica
BEGIN:STANDARD
TZOFFSETFROM:-0500
TZOFFSETTO:-0500
TZNAME:EST
DTSTART:20250101T000000
END:STANDARD
END:VTIMEZONE
BEGIN:VEVENT
DTSTART;TZID=America/Jamaica:20250716T093000
DTEND;TZID=America/Jamaica:20250716T120000
DTSTAMP:20260421T061030
CREATED:20250715T175915Z
LAST-MODIFIED:20250715T175915Z
UID:6052-1752658200-1752667200@webstermemorial.org
SUMMARY:SENIORS MINISTRY
DESCRIPTION:The SENIORS Ministry will continue their Exercise Class at 9:45 am in the Sunday School Room on July 16th. Bible study will resume at 11 am with Rev. P. DaCosta-Pinto studying the book of Nehemiah Until July 30th. All seniors are invited to attend.
URL:https://webstermemorial.org/event/seniors-ministry-13/
LOCATION:Webster Memorial United Chuch\, Jamaica
CATEGORIES:Meetings
ATTACH;FMTTYPE=image/jpeg:https://webstermemorial.org/wp-content/uploads/SENIORS-Ministry-Image.jpg
END:VEVENT
BEGIN:VEVENT
DTSTART;TZID=America/Jamaica:20250716T180000
DTEND;TZID=America/Jamaica:20250716T200000
DTSTAMP:20260421T061030
CREATED:20250710T221819Z
LAST-MODIFIED:20250710T221819Z
UID:6030-1752688800-1752696000@webstermemorial.org
SUMMARY:Bible Study & Prayer Meeting
DESCRIPTION:Bible Study with Ms. Sanchia Burrell \nWe are Investors \nfollowed by Prayer Meeting \nClick here for the Zoom link \nMeeting ID – 832 6859 4022 \nPasscode – 934137Hide \nClick here for prayer request
URL:https://webstermemorial.org/event/bible-study-prayer-meeting-15/
LOCATION:Online
CATEGORIES:Meetings,Online
ATTACH;FMTTYPE=image/png:https://webstermemorial.org/wp-content/uploads/BIBLE-STUDY-July-2-2025.png
END:VEVENT
END:VCALENDAR