BEGIN:VCALENDAR
VERSION:2.0
PRODID:-//Webster Memorial United Church - ECPv6.13.2.1//NONSGML v1.0//EN
CALSCALE:GREGORIAN
METHOD:PUBLISH
X-ORIGINAL-URL:https://webstermemorial.org
X-WR-CALDESC:Events for Webster Memorial United Church
REFRESH-INTERVAL;VALUE=DURATION:PT1H
X-Robots-Tag:noindex
X-PUBLISHED-TTL:PT1H
BEGIN:VTIMEZONE
TZID:America/Jamaica
BEGIN:STANDARD
TZOFFSETFROM:-0500
TZOFFSETTO:-0500
TZNAME:EST
DTSTART:20250101T000000
END:STANDARD
END:VTIMEZONE
BEGIN:VEVENT
DTSTART;TZID=America/Jamaica:20250714T180000
DTEND;TZID=America/Jamaica:20250714T190000
DTSTAMP:20260421T061543
CREATED:20250711T220418Z
LAST-MODIFIED:20250711T220418Z
UID:6042-1752516000-1752519600@webstermemorial.org
SUMMARY:Online Prayer Meeting with the Moderator
DESCRIPTION:This Monday\, join the Moderator in a time of collective intercession and spiritual fellowship. Let us come together in unity\, expectation\, and faith\, believing that when we pray miracles happen. \n 
URL:https://webstermemorial.org/event/online-prayer-meeting-with-the-moderator/
LOCATION:Online
CATEGORIES:Meetings,Online
ATTACH;FMTTYPE=image/jpeg:https://webstermemorial.org/wp-content/uploads/Online-Prayer-Meeting-with-the-Moderator-.jpg
END:VEVENT
END:VCALENDAR