BEGIN:VCALENDAR
VERSION:2.0
PRODID:-//Webster Memorial United Church - ECPv6.13.2.1//NONSGML v1.0//EN
CALSCALE:GREGORIAN
METHOD:PUBLISH
X-WR-CALNAME:Webster Memorial United Church
X-ORIGINAL-URL:https://webstermemorial.org
X-WR-CALDESC:Events for Webster Memorial United Church
REFRESH-INTERVAL;VALUE=DURATION:PT1H
X-Robots-Tag:noindex
X-PUBLISHED-TTL:PT1H
BEGIN:VTIMEZONE
TZID:America/Jamaica
BEGIN:STANDARD
TZOFFSETFROM:-0500
TZOFFSETTO:-0500
TZNAME:EST
DTSTART:20250101T000000
END:STANDARD
END:VTIMEZONE
BEGIN:VEVENT
DTSTART;TZID=America/Jamaica:20250531T063000
DTEND;TZID=America/Jamaica:20250531T203000
DTSTAMP:20260421T083659
CREATED:20250531T165629Z
LAST-MODIFIED:20250531T165629Z
UID:5841-1748673000-1748723400@webstermemorial.org
SUMMARY:WYAAM Meeting
DESCRIPTION:Webster Eden Garden & Zoom \nTopic: Webster Memorial United Church\, Jamaica’s Zoom Meeting-Young Adults 6:30pm\nTime: May 31\, 2025 06:30 PM Bogota\nJoin Zoom Meeting\nhttps://us02web.zoom.us/j/83833021775?pwd=VlTnFUTI47VMyQPSjKRKw3zsdOpbC9.1 \nMeeting ID: 838 3302 1775\nPasscode: 316994 \n 
URL:https://webstermemorial.org/event/wyaam-meeting-3/
LOCATION:Webster Memorial United Chuch\, Jamaica
CATEGORIES:Events,Meetings
END:VEVENT
BEGIN:VEVENT
DTSTART;TZID=America/Jamaica:20250531T130000
DTEND;TZID=America/Jamaica:20250531T160000
DTSTAMP:20260421T083659
CREATED:20250526T175738Z
LAST-MODIFIED:20250526T175738Z
UID:5809-1748696400-1748707200@webstermemorial.org
SUMMARY:Girls Brigade Meeting
DESCRIPTION:
URL:https://webstermemorial.org/event/girls-brigade-meeting-8/
LOCATION:Webster Memorial United Chuch\, Jamaica
CATEGORIES:Meetings
ATTACH;FMTTYPE=image/jpeg:https://webstermemorial.org/wp-content/uploads/Girls-Brigade-2025-poster.jpg
END:VEVENT
BEGIN:VEVENT
DTSTART;TZID=America/Jamaica:20250531T140000
DTEND;TZID=America/Jamaica:20250531T170000
DTSTAMP:20260421T083659
CREATED:20250526T175954Z
LAST-MODIFIED:20250526T175954Z
UID:5811-1748700000-1748710800@webstermemorial.org
SUMMARY:Boys Brigade Meeting
DESCRIPTION:
URL:https://webstermemorial.org/event/boys-brigade-meeting-7/
LOCATION:Webster Memorial United Chuch\, Jamaica
CATEGORIES:Meetings
ATTACH;FMTTYPE=image/jpeg:https://webstermemorial.org/wp-content/uploads/Boys-Brigade-2025-poster-IG.jpg
END:VEVENT
END:VCALENDAR