BEGIN:VCALENDAR
VERSION:2.0
PRODID:-//Webster Memorial United Church - ECPv6.13.2.1//NONSGML v1.0//EN
CALSCALE:GREGORIAN
METHOD:PUBLISH
X-WR-CALNAME:Webster Memorial United Church
X-ORIGINAL-URL:https://webstermemorial.org
X-WR-CALDESC:Events for Webster Memorial United Church
REFRESH-INTERVAL;VALUE=DURATION:PT1H
X-Robots-Tag:noindex
X-PUBLISHED-TTL:PT1H
BEGIN:VTIMEZONE
TZID:America/Jamaica
BEGIN:STANDARD
TZOFFSETFROM:-0500
TZOFFSETTO:-0500
TZNAME:EST
DTSTART:20250101T000000
END:STANDARD
END:VTIMEZONE
BEGIN:VEVENT
DTSTART;TZID=America/Jamaica:20250528T093000
DTEND;TZID=America/Jamaica:20250528T120000
DTSTAMP:20260421T083643
CREATED:20250526T180426Z
LAST-MODIFIED:20250526T180426Z
UID:5815-1748424600-1748433600@webstermemorial.org
SUMMARY:SENIORS MINISTRY
DESCRIPTION:The SENIORS Ministry will continue their Exercise Class at 9:45 am in the Sunday School Room on May 28th\, followed by Bible Study at 11 am with Rev. Paul DaCosta-Pinto. Hope to see you there.
URL:https://webstermemorial.org/event/seniors-ministry-6/
LOCATION:Webster Memorial United Chuch\, Jamaica
CATEGORIES:Meetings
ATTACH;FMTTYPE=image/jpeg:https://webstermemorial.org/wp-content/uploads/SENIORS-Ministry-Image.jpg
END:VEVENT
BEGIN:VEVENT
DTSTART;TZID=America/Jamaica:20250528T180000
DTEND;TZID=America/Jamaica:20250528T200000
DTSTAMP:20260421T083643
CREATED:20250522T200459Z
LAST-MODIFIED:20250522T200459Z
UID:5790-1748455200-1748462400@webstermemorial.org
SUMMARY:Bible Study & Prayer Meeting
DESCRIPTION:Bible Study with Rev. Astor Carlyle \nMinisters Presence \nfollowed by Prayer Meeting \nClick here for the Zoom link \nMeeting ID – 832 6859 4022 \nPasscode – 934137Hide \nClick here for prayer request
URL:https://webstermemorial.org/event/bible-study-prayer-meeting-8/
LOCATION:Online
CATEGORIES:Meetings,Online
ATTACH;FMTTYPE=image/jpeg:https://webstermemorial.org/wp-content/uploads/BIBLE-STUDY-May-14-2025.jpg
END:VEVENT
END:VCALENDAR