BEGIN:VCALENDAR
VERSION:2.0
PRODID:-//Webster Memorial United Church - ECPv6.13.2.1//NONSGML v1.0//EN
CALSCALE:GREGORIAN
METHOD:PUBLISH
X-WR-CALNAME:Webster Memorial United Church
X-ORIGINAL-URL:https://webstermemorial.org
X-WR-CALDESC:Events for Webster Memorial United Church
REFRESH-INTERVAL;VALUE=DURATION:PT1H
X-Robots-Tag:noindex
X-PUBLISHED-TTL:PT1H
BEGIN:VTIMEZONE
TZID:America/Jamaica
BEGIN:STANDARD
TZOFFSETFROM:-0500
TZOFFSETTO:-0500
TZNAME:EST
DTSTART:20250101T000000
END:STANDARD
END:VTIMEZONE
BEGIN:VEVENT
DTSTART;TZID=America/Jamaica:20250403T180000
DTEND;TZID=America/Jamaica:20250403T193000
DTSTAMP:20260421T101144
CREATED:20250402T185541Z
LAST-MODIFIED:20250402T185541Z
UID:5545-1743703200-1743708600@webstermemorial.org
SUMMARY:CHILD OF GOD TEACHING SERIES – Going D.E.E.P.
DESCRIPTION:The Child of God Teaching Series: Going ‘D.E.E.P’ on Tuesdays and Thursdays\, April 1\, 3\, 8\, 10\, 2025  with facilitators: Rev. Laddia Young\, Youth Minister. UCJCI\, and Rev. Dr. Collin Cowan\, Former General Secretary\, CWM / UCJCI\, begins later today at 6pm. \n  \nRegistration link – https://forms.gle/DSFjj3x6cBzdiEaj9 \n  \n 
URL:https://webstermemorial.org/event/child-of-god-teaching-series-going-d-e-e-p-2/
LOCATION:Online
CATEGORIES:Meetings,Online
ATTACH;FMTTYPE=image/jpeg:https://webstermemorial.org/wp-content/uploads/Going-D.E.E.P.jpg
ORGANIZER;CN="Discipleship Institute":MAILTO:webstermemorialdiscipleship@gmail.com
END:VEVENT
END:VCALENDAR