BEGIN:VCALENDAR
VERSION:2.0
PRODID:-//Webster Memorial United Church - ECPv6.13.2.1//NONSGML v1.0//EN
CALSCALE:GREGORIAN
METHOD:PUBLISH
X-WR-CALNAME:Webster Memorial United Church
X-ORIGINAL-URL:https://webstermemorial.org
X-WR-CALDESC:Events for Webster Memorial United Church
REFRESH-INTERVAL;VALUE=DURATION:PT1H
X-Robots-Tag:noindex
X-PUBLISHED-TTL:PT1H
BEGIN:VTIMEZONE
TZID:America/Jamaica
BEGIN:STANDARD
TZOFFSETFROM:-0500
TZOFFSETTO:-0500
TZNAME:EST
DTSTART:20250101T000000
END:STANDARD
END:VTIMEZONE
BEGIN:VEVENT
DTSTART;TZID=America/Jamaica:20250319T180000
DTEND;TZID=America/Jamaica:20250319T200000
DTSTAMP:20260421T120924
CREATED:20250317T211846Z
LAST-MODIFIED:20250318T025241Z
UID:5393-1742407200-1742414400@webstermemorial.org
SUMMARY:Bible Study & Prayer Meeting
DESCRIPTION:Bible Study with Dr. Michelle Thompson \nWe are Ambassadors \nfollowed by Prayer Meeting \nWednesdays: March 19 & 26\, April 2\, 9 & 30 \nClick here for the Zoom link \n  \n 
URL:https://webstermemorial.org/event/bible-study-prayer-meeting/
CATEGORIES:Meetings,Online
ATTACH;FMTTYPE=image/png:https://webstermemorial.org/wp-content/uploads/BS_PM-march_april2025.png
END:VEVENT
END:VCALENDAR