BEGIN:VCALENDAR
VERSION:2.0
PRODID:-//Webster Memorial United Church - ECPv6.13.2.1//NONSGML v1.0//EN
CALSCALE:GREGORIAN
METHOD:PUBLISH
X-ORIGINAL-URL:https://webstermemorial.org
X-WR-CALDESC:Events for Webster Memorial United Church
REFRESH-INTERVAL;VALUE=DURATION:PT1H
X-Robots-Tag:noindex
X-PUBLISHED-TTL:PT1H
BEGIN:VTIMEZONE
TZID:America/Jamaica
BEGIN:STANDARD
TZOFFSETFROM:-0500
TZOFFSETTO:-0500
TZNAME:EST
DTSTART:20250101T000000
END:STANDARD
END:VTIMEZONE
BEGIN:VEVENT
DTSTART;VALUE=DATE:20250305
DTEND;VALUE=DATE:20250306
DTSTAMP:20260421T102913
CREATED:20250305T170000Z
LAST-MODIFIED:20250508T192946Z
UID:5160-1741132800-1741219199@webstermemorial.org
SUMMARY:Day of Fellowship 2025
DESCRIPTION:
URL:https://webstermemorial.org/event/day-of-fellowship-2025/
LOCATION:Medowbrook United Church\, Jamaica
CATEGORIES:Events,Meetings,Special Event,Worship Services
ATTACH;FMTTYPE=image/jpeg:https://webstermemorial.org/wp-content/uploads/WhatsApp-Image-2025-03-02-at-4.14.43-PM.jpeg
END:VEVENT
BEGIN:VEVENT
DTSTART;TZID=America/Jamaica:20250315T183000
DTEND;TZID=America/Jamaica:20250315T200000
DTSTAMP:20260421T102914
CREATED:20250314T174633Z
LAST-MODIFIED:20250314T175903Z
UID:5378-1742063400-1742068800@webstermemorial.org
SUMMARY:Role of the Trinity
DESCRIPTION:The Webster Memorial United Church Young Adults Action Movement invites young persons between the ages of 21 and 45 to join their meeting this Saturday March 15\, 2025 at 6:30PM in person or on Zoom. \nMeeting Info\nMeeting ID: 810 7888 2317 \nPasscode: 751746 \n  \nClick here to go to the Zoom link
URL:https://webstermemorial.org/event/role-of-the-trinity/
CATEGORIES:Events,Meetings,Online
ATTACH;FMTTYPE=image/png:https://webstermemorial.org/wp-content/uploads/YA-Adult-session.png
END:VEVENT
BEGIN:VEVENT
DTSTART;TZID=America/Jamaica:20250319T180000
DTEND;TZID=America/Jamaica:20250319T200000
DTSTAMP:20260421T102914
CREATED:20250317T211846Z
LAST-MODIFIED:20250318T025241Z
UID:5393-1742407200-1742414400@webstermemorial.org
SUMMARY:Bible Study & Prayer Meeting
DESCRIPTION:Bible Study with Dr. Michelle Thompson \nWe are Ambassadors \nfollowed by Prayer Meeting \nWednesdays: March 19 & 26\, April 2\, 9 & 30 \nClick here for the Zoom link \n  \n 
URL:https://webstermemorial.org/event/bible-study-prayer-meeting/
CATEGORIES:Meetings,Online
ATTACH;FMTTYPE=image/png:https://webstermemorial.org/wp-content/uploads/BS_PM-march_april2025.png
END:VEVENT
BEGIN:VEVENT
DTSTART;TZID=America/Jamaica:20250322T130000
DTEND;TZID=America/Jamaica:20250322T160000
DTSTAMP:20260421T102914
CREATED:20250322T125543Z
LAST-MODIFIED:20250322T125828Z
UID:5449-1742648400-1742659200@webstermemorial.org
SUMMARY:Girls Brigade Meeting
DESCRIPTION:
URL:https://webstermemorial.org/event/girls-brigade-meeting/
LOCATION:Webster Memorial United Chuch\, Jamaica
CATEGORIES:Meetings
END:VEVENT
BEGIN:VEVENT
DTSTART;TZID=America/Jamaica:20250322T140000
DTEND;TZID=America/Jamaica:20250322T170000
DTSTAMP:20260421T102914
CREATED:20250322T125711Z
LAST-MODIFIED:20250322T140057Z
UID:5451-1742652000-1742662800@webstermemorial.org
SUMMARY:Boys Brigade Meeting
DESCRIPTION:
URL:https://webstermemorial.org/event/boys-brigade/
LOCATION:Webster Memorial United Chuch\, Jamaica
CATEGORIES:Meetings
END:VEVENT
BEGIN:VEVENT
DTSTART;TZID=America/Jamaica:20250326T093000
DTEND;TZID=America/Jamaica:20250326T120000
DTSTAMP:20260421T102914
CREATED:20250325T194922Z
LAST-MODIFIED:20250325T194922Z
UID:5472-1742981400-1742990400@webstermemorial.org
SUMMARY:SENIORS MINISTRY
DESCRIPTION:The SENIORS Ministry will continue physical exercises on Wednesdays at 9:45 am\nfollowed by Bible Study at 11:00 am with Rev. P. DaCosta -Pinto on the book of\nPhilippians on March 26. See you there.
URL:https://webstermemorial.org/event/seniors-ministry/
LOCATION:Webster Memorial United Chuch\, Jamaica
CATEGORIES:Meetings
END:VEVENT
BEGIN:VEVENT
DTSTART;TZID=America/Jamaica:20250326T180000
DTEND;TZID=America/Jamaica:20250326T200000
DTSTAMP:20260421T102914
CREATED:20250325T183640Z
LAST-MODIFIED:20250325T183918Z
UID:5464-1743012000-1743019200@webstermemorial.org
SUMMARY:Bible Study & Prayer Meeting
DESCRIPTION:Bible Study with Dr. Michelle Thompson \nWe are Ambassadors \nfollowed by Prayer Meeting \nClick here for the Zoom link \n  \n 
URL:https://webstermemorial.org/event/bible-study-prayer-meeting-2/
CATEGORIES:Meetings,Online
ATTACH;FMTTYPE=image/png:https://webstermemorial.org/wp-content/uploads/unnamed-7.png
END:VEVENT
BEGIN:VEVENT
DTSTART;TZID=America/Jamaica:20250328T190000
DTEND;TZID=America/Jamaica:20250328T203000
DTSTAMP:20260421T102914
CREATED:20250317T142943Z
LAST-MODIFIED:20250317T142943Z
UID:5390-1743188400-1743193800@webstermemorial.org
SUMMARY:Youth Fellowship Meeting
DESCRIPTION:
URL:https://webstermemorial.org/event/youth-fellowship-meeting-2/
LOCATION:Webster Memorial United Chuch\, Jamaica
CATEGORIES:Meetings
END:VEVENT
BEGIN:VEVENT
DTSTART;TZID=America/Jamaica:20250329T130000
DTEND;TZID=America/Jamaica:20250329T160000
DTSTAMP:20260421T102914
CREATED:20250329T124941Z
LAST-MODIFIED:20250329T124941Z
UID:5513-1743253200-1743264000@webstermemorial.org
SUMMARY:Girls Brigade Meeting
DESCRIPTION:
URL:https://webstermemorial.org/event/girls-brigade-meeting-2/
LOCATION:Webster Memorial United Chuch\, Jamaica
CATEGORIES:Meetings
END:VEVENT
BEGIN:VEVENT
DTSTART;TZID=America/Jamaica:20250329T140000
DTEND;TZID=America/Jamaica:20250329T170000
DTSTAMP:20260421T102914
CREATED:20250329T125139Z
LAST-MODIFIED:20250329T125139Z
UID:5515-1743256800-1743267600@webstermemorial.org
SUMMARY:Boys Brigade Meeting
DESCRIPTION:
URL:https://webstermemorial.org/event/boys-brigade-meeting/
LOCATION:Webster Memorial United Chuch\, Jamaica
CATEGORIES:Meetings
END:VEVENT
END:VCALENDAR