BEGIN:VCALENDAR
VERSION:2.0
PRODID:-//Webster Memorial United Church - ECPv6.13.2.1//NONSGML v1.0//EN
CALSCALE:GREGORIAN
METHOD:PUBLISH
X-ORIGINAL-URL:https://webstermemorial.org
X-WR-CALDESC:Events for Webster Memorial United Church
REFRESH-INTERVAL;VALUE=DURATION:PT1H
X-Robots-Tag:noindex
X-PUBLISHED-TTL:PT1H
BEGIN:VTIMEZONE
TZID:America/Jamaica
BEGIN:STANDARD
TZOFFSETFROM:-0500
TZOFFSETTO:-0500
TZNAME:EST
DTSTART:20250101T000000
END:STANDARD
END:VTIMEZONE
BEGIN:VEVENT
DTSTART;TZID=America/Jamaica:20251225T070000
DTEND;TZID=America/Jamaica:20251225T093000
DTSTAMP:20260424T103512
CREATED:20251224T130146Z
LAST-MODIFIED:20251224T223655Z
UID:6815-1766646000-1766655000@webstermemorial.org
SUMMARY:Christmas Day Service 2025
DESCRIPTION:
URL:https://webstermemorial.org/event/christmas-day-service-2025/
LOCATION:Webster Memorial United Chuch\, Jamaica
CATEGORIES:Holy,Special Event
END:VEVENT
BEGIN:VEVENT
DTSTART;TZID=America/Jamaica:20260118T160000
DTEND;TZID=America/Jamaica:20260118T180000
DTSTAMP:20260424T103512
CREATED:20260115T210145Z
LAST-MODIFIED:20260115T210145Z
UID:6887-1768752000-1768759200@webstermemorial.org
SUMMARY:NERMC Induction Service for Rev. Wendell McKoy
DESCRIPTION:
URL:https://webstermemorial.org/event/nermc-induction-service-for-rev-wendell-mckoy/
CATEGORIES:Events,Holy
ATTACH;FMTTYPE=image/jpeg:https://webstermemorial.org/wp-content/uploads/Induction-Rev.-Wendell-McKoy.jpg
END:VEVENT
BEGIN:VEVENT
DTSTART;TZID=America/Jamaica:20260403T080000
DTEND;TZID=America/Jamaica:20260403T103000
DTSTAMP:20260424T103512
CREATED:20260401T000156Z
LAST-MODIFIED:20260402T212232Z
UID:7281-1775203200-1775212200@webstermemorial.org
SUMMARY:Good Friday Service
DESCRIPTION:Fasting and Prayer in the Sanctuary after the Service. It begins at 11 am
URL:https://webstermemorial.org/event/good-friday-service-2026/
LOCATION:Webster Memorial United Chuch\, Jamaica
CATEGORIES:Holy,Special Event,Worship Services
ATTACH;FMTTYPE=image/jpeg:https://webstermemorial.org/wp-content/uploads/Good-Friday-Service-April-2026-Instagram-Post.jpg
END:VEVENT
BEGIN:VEVENT
DTSTART;TZID=America/Jamaica:20260422T120000
DTEND;TZID=America/Jamaica:20260422T130000
DTSTAMP:20260424T103512
CREATED:20260127T221334Z
LAST-MODIFIED:20260420T212823Z
UID:6947-1776859200-1776862800@webstermemorial.org
SUMMARY:Mid-Day Reflections 2026
DESCRIPTION:Join us for our Mid-Day Reflections this and every Wednesday in the Church Hall at 12 noon.
URL:https://webstermemorial.org/event/mid-day-reflections-2026/
LOCATION:Webster Memorial United Chuch\, Jamaica
CATEGORIES:Holy,Worship Services
ATTACH;FMTTYPE=image/jpeg:https://webstermemorial.org/wp-content/uploads/Midday-Reflection-Jan-Mar-2025-IG-SM-Posts.jpg
END:VEVENT
END:VCALENDAR